Workbook
Name Hidden_13: Hidden_1!$A$1:$A$11
Name Hidden_211: Hidden_2!$A$1:$A$2

Sheet Reporte de Formatos
A1: 56156
A2: TÍTULO | D2: NOMBRE CORTO | G2: DESCRIPCIÓN
A3: Remuneraciones brutas y netas de todas las personas servidoras públicas de base y de confianza | D3: LTAIPSLP84XI | G3: La información relativa a la remuneración mensual bruta y neta de conformidad con el tabulador de sueldos y salarios aplicable a cada sujeto obligado, así como todos los conceptos que sean adicionales y distintos a las remuneraciones, especificando la periodicidad con que se otorga cada uno de éstos (quincenal, mensual, semestral, anual, por única ocasión, etcétera)
A4: 1 | B4: 4 | C4: 4 | D4: 9 | E4: 1 | F4: 2 | G4: 2 | H4: 2 | I4: 1 | J4: 1 | K4: 1 | L4: 9 | M4: 6 | N4: 1 | O4: 6 | P4: 1 | Q4: 10 | R4: 10 | S4: 10 | T4: 10 | U4: 10 | V4: 10 | W4: 10 | X4: 10 | Y4: 10 | Z4: 10 | AA4: 10 | AB4: 10 | AC4: 10 | AD4: 2 | AE4: 13 | AF4: 14
A5: 549532 | B5: 549544 | C5: 549524 | D5: 549545 | E5: 549546 | F5: 549527 | G5: 549533 | H5: 549534 | I5: 549535 | J5: 549528 | K5: 549525 | L5: 571587 | M5: 549547 | N5: 549548 | O5: 549537 | P5: 549526 | Q5: 549551 | R5: 549538 | S5: 549552 | T5: 549522 | U5: 549542 | V5: 549529 | W5: 549539 | X5: 549530 | Y5: 549531 | Z5: 549549 | AA5: 549553 | AB5: 549550 | AC5: 549554 | AD5: 549540 | AE5: 549543 | AF5: 549523
A6: Tabla Campos
A7: Ejercicio | B7: Fecha de inicio del periodo que se informa | C7: Fecha de término del periodo que se informa | D7: Tipo de integrante del sujeto obligado (catálogo) | E7: Clave o nivel del puesto | F7: Denominación o descripción del puesto (Redactados con perspectiva de género) | G7: Denominación del cargo (de conformidad con el nombramiento otorgado) | H7: Área de adscripción | I7: Nombre (s) | J7: Primer apellido | K7: Segundo apellido | L7: ESTE CRITERIO APLICA A PARTIR DEL 01/04/2023 -> Sexo (catálogo ) | M7: Monto de la remuneración mensual bruta, de conformidad al Tabulador de sueldos y salarios que corresponda | N7: Tipo de moneda de la remuneración mensual bruta | O7: Monto de la remuneración mensual neta, de conformidad al Tabulador de sueldos y salarios que corresponda | P7: Tipo de moneda de la remuneración mensual neta | Q7: Percepciones adicionales en dinero, Monto bruto y neto, tipo de moneda y su periodicidad Tabla_549551 | R7: Percepciones adicionales en especie y su periodicidad Tabla_549538 | S7: Ingresos, monto bruto y neto, tipo de moneda y su periodicidad Tabla_549552 | T7: Sistemas de compensación, monto bruto y neto, tipo de moneda y su periodicidad Tabla_549522 | U7: Gratificaciones, monto bruto y neto, tipo de moneda y su periodicidad Tabla_549542 | V7: Primas, monto bruto y neto, tipo de moneda y su periodicidad Tabla_549529 | W7: Comisiones, monto bruto y neto, tipo de moneda y su periodicidad Tabla_549539 | X7: Dietas, monto bruto y neto, tipo de moneda y su periodicidad Tabla_549530 | Y7: Bonos, monto bruto y neto, tipo de moneda y su periodicidad Tabla_549531 | Z7: Estímulos, monto bruto y neto, tipo de moneda y su periodicidad Tabla_549549 | AA7: Apoyos económicos, monto bruto y neto, tipo de moneda y su periodicidad Tabla_549553 | AB7: Prestaciones económicas, monto bruto y neto, tipo de moneda y su periodicidad Tabla_549550 | AC7: Prestaciones en especie y su periodicidad Tabla_549554 | AD7: Área(s) responsable(s) que genera(n), posee(n), publica(n) y actualizan la información | AE7: Fecha de Actualización | AF7: Nota
A8: 2026 | B8: 46204 | C8: 46234 | D8: Empleada (o) | E8: 0 | F8: RECEPCIONISTA Y AUXILIAR DE AFILIACION | G8: RECEPCIONISTA Y AUXILIAR DE AFILIACION | H8: COMISION OPERATIVA ESTATAL | I8: CARMEN ADRIANA | J8: IBARRA | K8: RODRIGUEZ | L8: Mujer | M8: 18834.3 | N8: PESOS MEXICANOS | O8: 16216 | P8: PESOS MEXICANOS | Q8: 2 | R8: 1 | S8: 2 | T8: 1 | U8: 2 | V8: 2 | W8: 1 | X8: 1 | Y8: 1 | Z8: 1 | AA8: 1 | AB8: 1 | AC8: 1 | AD8: TESORERIA | AE8: 46234 | AF8: El Personal no recibe percepciones adicionales de dinero o en especie , comisiones, dietas, bonos, estímulos, apoyos económicos, prestaciones en especie
A9: 2026 | B9: 46204 | C9: 46234 | D9: Empleada (o) | E9: 0 | F9: ADMINISTRATIVO | G9: ADMINISTRATIVO | H9: COMISION OPERATIVA ESTATAL | I9: XOCHITL ESPERANZA | J9: CASTILLO | K9: SANCHEZ | L9: Mujer | M9: 14872.2 | N9: PESOS MEXICANOS | O9: 13122 | P9: PESOS MEXICANOS | Q9: 3 | R9: 1 | S9: 3 | T9: 1 | U9: 3 | V9: 3 | W9: 1 | X9: 1 | Y9: 1 | Z9: 1 | AA9: 1 | AB9: 1 | AC9: 1 | AD9: TESORERIA | AE9: 46234 | AF9: El Personal no recibe percepciones adicionales de dinero o en especie , comisiones, dietas, bonos, estímulos, apoyos económicos, prestaciones en especie
A10: 2026 | B10: 46204 | C10: 46234 | D10: Empleada (o) | E10: 0 | F10: AUXILIAR GENERAL | G10: AUXILIAR GENERAL | H10: COMISION OPERATIVA ESTATAL | I10: MARIA DEL ROCIO | J10: DEBO | K10: RUIZ | L10: Mujer | M10: 12238.8 | N10: PESOS MEXICANOS | O10: 10978 | P10: PESOS MEXICANOS | Q10: 4 | R10: 1 | S10: 4 | T10: 1 | U10: 4 | V10: 4 | W10: 1 | X10: 1 | Y10: 1 | Z10: 1 | AA10: 1 | AB10: 1 | AC10: 1 | AD10: TESORERIA | AE10: 46234 | AF10: El Personal no recibe percepciones adicionales de dinero o en especie , comisiones, dietas, bonos, estímulos, apoyos económicos, prestaciones en especie
A11: 2026 | B11: 46204 | C11: 46234 | D11: Empleada (o) | E11: 0 | F11: AUXILIAR ADMINISTRATIVO | G11: AUXILIAR ADMINISTRATIVO | H11: COMISION OPERATIVA ESTATAL | I11: ANA LUISA | J11: VAZQUEZ | K11: GOVEA | L11: Mujer | M11: 14710.5 | N11: PESOS MEXICANOS | O11: 12992 | P11: PESOS MEXICANOS | Q11: 5 | R11: 1 | S11: 5 | T11: 1 | U11: 5 | V11: 5 | W11: 1 | X11: 1 | Y11: 1 | Z11: 1 | AA11: 1 | AB11: 1 | AC11: 1 | AD11: TESORERIA | AE11: 46234 | AF11: El Personal no recibe percepciones adicionales de dinero o en especie , comisiones, dietas, bonos, estímulos, apoyos económicos, prestaciones en especie
A12: 2026 | B12: 46204 | C12: 46234 | D12: Empleada (o) | E12: 0 | F12: MANTENIMIENTO | G12: MANTENIMIENTO | H12: COMISION OPERATIVA ESTATAL | I12: ARTURO | J12: BLANCO | K12: VARELA | L12: Hombre | M12: 9943.8 | N12: PESOS MEXICANOS | O12: 9520 | P12: PESOS MEXICANOS | Q12: 6 | R12: 1 | S12: 6 | T12: 1 | U12: 6 | V12: 6 | W12: 1 | X12: 1 | Y12: 1 | Z12: 1 | AA12: 1 | AB12: 1 | AC12: 1 | AD12: TESORERIA | AE12: 46234 | AF12: El Personal no recibe percepciones adicionales de dinero o en especie , comisiones, dietas, bonos, estímulos, apoyos económicos, prestaciones en especie
A13: 2026 | B13: 46204 | C13: 46234 | D13: Empleada (o) | E13: 0 | F13: AUXULUAR ADMINISTRATIVO | G13: AUXILIAR ADMINISTRATIVO | H13: COMISION OPERATIVA ESTATAL | I13: JOSE | J13: ROMERO | K13: SANTIUSTE | L13: Hombre | M13: 18834.3 | N13: PESOS MEXICANOS | O13: 16218 | P13: PESOS MEXICANOS | Q13: 7 | R13: 1 | S13: 7 | T13: 1 | U13: 7 | V13: 7 | W13: 1 | X13: 1 | Y13: 1 | Z13: 1 | AA13: 1 | AB13: 1 | AC13: 1 | AD13: TESORERIA | AE13: 46234 | AF13: El Personal no recibe percepciones adicionales de dinero o en especie , comisiones, dietas, bonos, estímulos, apoyos económicos, prestaciones en especie
A14: 2026 | B14: 46204 | C14: 46234 | D14: Empleada (o) | E14: 0 | F14: ASUNTOS MUNICIPALES | G14: ASUNTOS MUNICIPALES | H14: COMISION OPERATIVA ESTATAL | I14: JOSE ANDRES | J14: ESPARZA | K14: AGUILAR | L14: Hombre | M14: 18834.3 | N14: PESOS MEXICANOS | O14: 16218 | P14: PESOS MEXICANOS | Q14: 8 | R14: 1 | S14: 8 | T14: 1 | U14: 8 | V14: 8 | W14: 1 | X14: 1 | Y14: 1 | Z14: 1 | AA14: 1 | AB14: 1 | AC14: 1 | AD14: TESORERIA | AE14: 46234 | AF14: El Personal no recibe percepciones adicionales de dinero o en especie , comisiones, dietas, bonos, estímulos, apoyos económicos, prestaciones en especie
A15: 2026 | B15: 46204 | C15: 46234 | D15: Empleada (o) | E15: 0 | F15: ASISTENTE DE COORDINACION | G15: ASUSISTENTE DE COORDINACION | H15: COMISION OPERATIVA ESTATAL | I15: ELAINE IDELIZA | J15: RODRIGUEZ | K15: OLVERA | L15: Mujer | M15: 18834.3 | N15: PESOS MEXICANOS | O15: 16218 | P15: PESOS MEXICANOS | Q15: 9 | R15: 1 | S15: 9 | T15: 1 | U15: 9 | V15: 9 | W15: 1 | X15: 1 | Y15: 1 | Z15: 1 | AA15: 1 | AB15: 1 | AC15: 1 | AD15: TESORERIA | AE15: 46234 | AF15: El Personal no recibe percepciones adicionales de dinero o en especie , comisiones, dietas, bonos, estímulos, apoyos económicos, prestaciones en especie
A16: 2026 | B16: 46204 | C16: 46234 | D16: Empleada (o) | E16: 0 | F16: AUXILIAR DE CONTABILIDAD | G16: AUXILIAR DE CONTABILIDAD | H16: COMISION OPERATIVA ESTATAL | I16: MARIANA GUADALUPE | J16: VAZQUEZ | K16: GOVEA | L16: Mujer | M16: 18538.1 | N16: PESOS MEXICANOS | O16: 16441.84 | P16: PESOS MEXICANOS | Q16: 10 | R16: 1 | S16: 10 | T16: 1 | U16: 10 | V16: 10 | W16: 1 | X16: 1 | Y16: 1 | Z16: 1 | AA16: 1 | AB16: 1 | AC16: 1 | AD16: TESORERIA | AE16: 46234 | AF16: El Personal no recibe percepciones adicionales de dinero o en especie , comisiones, dietas, bonos, estímulos, apoyos económicos, prestaciones en especie
A17: 2026 | B17: 46204 | C17: 46234 | D17: Empleada (o) | E17: 0 | F17: SECRETARIA DE GESTION SOCIAL | G17: SECRETARIA DE GESTION SOCIAL | H17: COMISION OPERATIVA ESTATAL | I17: JOSE LUIS | J17: VIDALES | K17: SOTO | L17: Hombre | M17: 22286.92 | N17: PESOS MEXICANOS | O17: 19299.92 | P17: PESOS MEXICANOS | Q17: 11 | R17: 1 | S17: 11 | T17: 1 | U17: 11 | V17: 11 | W17: 1 | X17: 1 | Y17: 1 | Z17: 1 | AA17: 1 | AB17: 1 | AC17: 1 | AD17: TESORERIA | AE17: 46234 | AF17: El Personal no recibe percepciones adicionales de dinero o en especie , comisiones, dietas, bonos, estímulos, apoyos económicos, prestaciones en especie

Sheet Hidden_1
A1: Funcionaria (o)
A2: Persona servidora pública
A3: Persona servidora pública eventual
A4: Integrante
A5: Empleada (o)
A6: Representante popular
A7: Miembro del poder judicial
A8: Miembro de órgano autónomo
A9: Personal de confianza
A10: Persona prestadora de servicios profesionales
A11: Otro

Sheet Hidden_2
A1: Hombre
A2: Mujer

Sheet Tabla_549551
B1: 2 | C1: 6 | D1: 6 | E1: 1 | F1: 1
B2: 70050 | C2: 70051 | D2: 70052 | E2: 70053 | F2: 70054
A3: ID | B3: Denominación de las percepciones adicionales en dinero | C3: Monto bruto de las percepciones adicionales en dinero | D3: Monto neto de las percepciones adicionales en dinero | E3: Tipo de moneda de las percepciones adicionales en dinero | F3: Periodicidad de las percepciones adicionales en dinero
A4: 1 | B4: NO SE GENERA | C4: 0 | D4: 0 | E4: 0 | F4: NO SE GENERA
A5: 2 | B5: SUELDO | C5: ='Reporte de Formatos'!M8 -> 18834.3 | D5: ='Reporte de Formatos'!O8 -> 16216 | E5: PESOS MEXICANOS | F5: MENSUAL
A6: 3 | B6: SUELDO | C6: ='Reporte de Formatos'!M9 -> 14872.2 | D6: ='Reporte de Formatos'!O9 -> 13122 | E6: PESOS MEXICANOS | F6: MENSUAL
A7: 4 | B7: SUELDO | C7: ='Reporte de Formatos'!M10 -> 12238.8 | D7: ='Reporte de Formatos'!O10 -> 10978 | E7: PESOS MEXICANOS | F7: MENSUAL
A8: 5 | B8: SUELDO | C8: ='Reporte de Formatos'!M11 -> 14710.5 | D8: ='Reporte de Formatos'!O11 -> 12992 | E8: PESOS MEXICANOS | F8: MENSUAL
A9: 6 | B9: SUELDO | C9: ='Reporte de Formatos'!M12 -> 9943.8 | D9: ='Reporte de Formatos'!O12 -> 9520 | E9: PESOS MEXICANOS | F9: MENSUAL
A10: 7 | B10: SUELDO | C10: ='Reporte de Formatos'!M13 -> 18834.3 | D10: ='Reporte de Formatos'!O13 -> 16218 | E10: PESOS MEXICANOS | F10: MENSUAL
A11: 8 | B11: SUELDO | C11: ='Reporte de Formatos'!M14 -> 18834.3 | D11: ='Reporte de Formatos'!O14 -> 16218 | E11: PESOS MEXICANOS | F11: MENSUAL
A12: 9 | B12: SUELDO | C12: ='Reporte de Formatos'!M15 -> 18834.3 | D12: ='Reporte de Formatos'!O15 -> 16218 | E12: PESOS MEXICANOS | F12: MENSUAL
A13: 10 | B13: SUELDO | C13: ='Reporte de Formatos'!M16 -> 18538.1 | D13: ='Reporte de Formatos'!O16 -> 16441.84 | E13: PESOS MEXICANOS | F13: MENSUAL
A14: 11 | B14: SUELDO | C14: ='Reporte de Formatos'!M17 -> 22286.92 | D14: ='Reporte de Formatos'!O17 -> 19299.92 | E14: PESOS MEXICANOS | F14: MENSUAL
A15: 12 | B15: SUELDO | C15: ='Reporte de Formatos'!M18 -> 0 | D15: ='Reporte de Formatos'!O18 -> 0 | E15: PESOS MEXICANOS | F15: MENSUAL
A16: 13 | B16: SUELDO | C16: ='Reporte de Formatos'!M19 -> 0 | D16: ='Reporte de Formatos'!O19 -> 0 | E16: PESOS MEXICANOS | F16: MENSUAL

Sheet Tabla_549538
B1: 2 | C1: 1
B2: 70028 | C2: 70029
A3: ID | B3: Descripción de las percepciones adicionales en especie | C3: Periodicidad de las percepciones adicionales en especie
A4: 1 | B4: NO SE GENERA | C4: NO SE GENRA

Sheet Tabla_549552
B1: 2 | C1: 6 | D1: 6 | E1: 1 | F1: 1
B2: 70057 | C2: 70058 | D2: 70059 | E2: 70055 | F2: 70056
A3: ID | B3: Denominación de los ingresos | C3: Monto bruto de los ingresos | D3: Monto neto de los ingresos | E3: Tipo de moneda de los ingresos | F3: Periodicidad de los ingresos
A4: 1 | B4: NO SE GENERA | C4: 0 | D4: 0 | E4: 0 | F4: NO SE GENERA
A5: 2 | B5: SUELDO | C5: ='Reporte de Formatos'!M8 -> 18834.3 | D5: ='Reporte de Formatos'!O8 -> 16216 | E5: PESOS MEXICANOS | F5: MENSUAL
A6: 3 | B6: SUELDO | C6: ='Reporte de Formatos'!M9 -> 14872.2 | D6: ='Reporte de Formatos'!O9 -> 13122 | E6: PESOS MEXICANOS | F6: MENSUAL
A7: 4 | B7: SUELDO | C7: ='Reporte de Formatos'!M10 -> 12238.8 | D7: ='Reporte de Formatos'!O10 -> 10978 | E7: PESOS MEXICANOS | F7: MENSUAL
A8: 5 | B8: SUELDO | C8: ='Reporte de Formatos'!M11 -> 14710.5 | D8: ='Reporte de Formatos'!O11 -> 12992 | E8: PESOS MEXICANOS | F8: MENSUAL
A9: 6 | B9: SUELDO | C9: ='Reporte de Formatos'!M12 -> 9943.8 | D9: ='Reporte de Formatos'!O12 -> 9520 | E9: PESOS MEXICANOS | F9: MENSUAL
A10: 7 | B10: SUELDO | C10: ='Reporte de Formatos'!M13 -> 18834.3 | D10: ='Reporte de Formatos'!O13 -> 16218 | E10: PESOS MEXICANOS | F10: MENSUAL
A11: 8 | B11: SUELDO | C11: ='Reporte de Formatos'!M14 -> 18834.3 | D11: ='Reporte de Formatos'!O14 -> 16218 | E11: PESOS MEXICANOS | F11: MENSUAL
A12: 9 | B12: SUELDO | C12: ='Reporte de Formatos'!M15 -> 18834.3 | D12: ='Reporte de Formatos'!O15 -> 16218 | E12: PESOS MEXICANOS | F12: MENSUAL
A13: 10 | B13: SUELDO | C13: ='Reporte de Formatos'!M16 -> 18538.1 | D13: ='Reporte de Formatos'!O16 -> 16441.84 | E13: PESOS MEXICANOS | F13: MENSUAL
A14: 11 | B14: SUELDO | C14: ='Reporte de Formatos'!M17 -> 22286.92 | D14: ='Reporte de Formatos'!O17 -> 19299.92 | E14: PESOS MEXICANOS | F14: MENSUAL
A15: 12 | B15: SUELDO | C15: ='Reporte de Formatos'!M18 -> 0 | D15: ='Reporte de Formatos'!O18 -> 0 | E15: PESOS MEXICANOS | F15: MENSUAL
A16: 13 | B16: SUELDO | C16: ='Reporte de Formatos'!M19 -> 0 | D16: ='Reporte de Formatos'!O19 -> 0 | E16: PESOS MEXICANOS | F16: MENSUAL

Sheet Tabla_549522
B1: 1 | C1: 6 | D1: 6 | E1: 1 | F1: 1
B2: 70008 | C2: 70009 | D2: 70010 | E2: 70011 | F2: 70012
A3: ID | B3: Denominación de los sistemas de compensación | C3: Monto bruto de los sistemas de compensación | D3: Monto neto de los sistemas de compensación | E3: Tipo de moneda de los sistemas de compensación | F3: Periodicidad de los sistemas de compensación
A4: 1 | B4: NO SE GENERA | C4: 0 | D4: 0 | E4: PESOS | F4: NO SE GENERA

Sheet Tabla_549542
B1: 1 | C1: 6 | D1: 6 | E1: 1 | F1: 1
B2: 70035 | C2: 70036 | D2: 70037 | E2: 70038 | F2: 70039
A3: ID | B3: Denominación de las gratificaciones | C3: Monto bruto de las gratificaciones | D3: Monto neto de las gratificaciones | E3: Tipo de moneda de las gratificaciones | F3: Periodicidad de las gratificaciones
A4: 1 | B4: NO SE GENERA | C4: 0 | D4: 0 | E4: PESOS | F4: NO SE GENERA
A5: 2 | B5: GRATIFICACION | C5: ='Reporte de Formatos'!M8 -> 18834.3 | D5: ='Reporte de Formatos'!O8 -> 16216 | E5: PESOS MEXICANOS | F5: MENSUAL
A6: 3 | B6: GRATIFICACION | C6: ='Reporte de Formatos'!M9 -> 14872.2 | D6: ='Reporte de Formatos'!O9 -> 13122 | E6: PESOS MEXICANOS | F6: MENSUAL
A7: 4 | B7: GRATIFICACION | C7: ='Reporte de Formatos'!M10 -> 12238.8 | D7: ='Reporte de Formatos'!O10 -> 10978 | E7: PESOS MEXICANOS | F7: MENSUAL
A8: 5 | B8: GRATIFICACION | C8: ='Reporte de Formatos'!M11 -> 14710.5 | D8: ='Reporte de Formatos'!O11 -> 12992 | E8: PESOS MEXICANOS | F8: MENSUAL
A9: 6 | B9: GRATIFICACION | C9: ='Reporte de Formatos'!M12 -> 9943.8 | D9: ='Reporte de Formatos'!O12 -> 9520 | E9: PESOS MEXICANOS | F9: MENSUAL
A10: 7 | B10: GRATIFICACION | C10: ='Reporte de Formatos'!M13 -> 18834.3 | D10: ='Reporte de Formatos'!O13 -> 16218 | E10: PESOS MEXICANOS | F10: MENSUAL
A11: 8 | B11: GRATIFICACION | C11: ='Reporte de Formatos'!M14 -> 18834.3 | D11: ='Reporte de Formatos'!O14 -> 16218 | E11: PESOS MEXICANOS | F11: MENSUAL
A12: 9 | B12: GRATIFICACION | C12: ='Reporte de Formatos'!M15 -> 18834.3 | D12: ='Reporte de Formatos'!O15 -> 16218 | E12: PESOS MEXICANOS | F12: MENSUAL
A13: 10 | B13: GRATIFICACION | C13: ='Reporte de Formatos'!M16 -> 18538.1 | D13: ='Reporte de Formatos'!O16 -> 16441.84 | E13: PESOS MEXICANOS | F13: MENSUAL
A14: 11 | B14: GRATIFICACION | C14: ='Reporte de Formatos'!M17 -> 22286.92 | D14: ='Reporte de Formatos'!O17 -> 19299.92 | E14: PESOS MEXICANOS | F14: MENSUAL
A15: 12 | B15: GRATIFICACION | C15: ='Reporte de Formatos'!M18 -> 0 | D15: ='Reporte de Formatos'!O18 -> 0 | E15: PESOS MEXICANOS | F15: MENSUAL
A16: 13 | B16: GRATIFICACION | C16: ='Reporte de Formatos'!M19 -> 0 | D16: ='Reporte de Formatos'!O19 -> 0 | E16: PESOS MEXICANOS | F16: MENSUAL

Sheet Tabla_549529
B1: 1 | C1: 6 | D1: 6 | E1: 1 | F1: 1
B2: 70013 | C2: 70014 | D2: 70015 | E2: 70016 | F2: 70017
A3: ID | B3: Denominación de las primas | C3: Monto bruto de las primas | D3: Monto neto de las primas | E3: Tipo de moneda de las primas | F3: Periodicidad de las primas
A4: 1 | B4: NO SE GENERA | C4: 0 | D4: 0 | E4: PESOS | F4: NO SE GENERA
A5: 2 | B5: PRIMAS VACAIONALES | C5: ='Reporte de Formatos'!M8 -> 18834.3 | D5: ='Reporte de Formatos'!O8 -> 16216 | E5: PESOS MEXICANOS | F5: MENSUAL
A6: 3 | B6: PRIMAS VACIONALES | C6: ='Reporte de Formatos'!M9 -> 14872.2 | D6: ='Reporte de Formatos'!O9 -> 13122 | E6: PESOS MEXICANOS | F6: MENSUAL
A7: 4 | B7: PRIMAS VACIONALES | C7: ='Reporte de Formatos'!M10 -> 12238.8 | D7: ='Reporte de Formatos'!O10 -> 10978 | E7: PESOS MEXICANOS | F7: MENSUAL
A8: 5 | B8: PRIMAS VACIONALES | C8: ='Reporte de Formatos'!M11 -> 14710.5 | D8: ='Reporte de Formatos'!O11 -> 12992 | E8: PESOS MEXICANOS | F8: MENSUAL
A9: 6 | B9: PRIMAS VACIONALES | C9: ='Reporte de Formatos'!M12 -> 9943.8 | D9: ='Reporte de Formatos'!O12 -> 9520 | E9: PESOS MEXICANOS | F9: MENSUAL
A10: 7 | B10: PRIMAS VACIONALES | C10: ='Reporte de Formatos'!M13 -> 18834.3 | D10: ='Reporte de Formatos'!O13 -> 16218 | E10: PESOS MEXICANOS | F10: MENSUAL
A11: 8 | B11: PRIMAS VACIONALES | C11: ='Reporte de Formatos'!M14 -> 18834.3 | D11: ='Reporte de Formatos'!O14 -> 16218 | E11: PESOS MEXICANOS | F11: MENSUAL
A12: 9 | B12: PRIMAS VACIONALES | C12: ='Reporte de Formatos'!M15 -> 18834.3 | D12: ='Reporte de Formatos'!O15 -> 16218 | E12: PESOS MEXICANOS | F12: MENSUAL
A13: 10 | B13: PRIMAS VACIONALES | C13: ='Reporte de Formatos'!M16 -> 18538.1 | D13: ='Reporte de Formatos'!O16 -> 16441.84 | E13: PESOS MEXICANOS | F13: MENSUAL
A14: 11 | B14: PRIMAS VACIONALES | C14: ='Reporte de Formatos'!M17 -> 22286.92 | D14: ='Reporte de Formatos'!O17 -> 19299.92 | E14: PESOS MEXICANOS | F14: MENSUAL
A15: 12 | B15: PRIMAS VACIONALES | C15: ='Reporte de Formatos'!M18 -> 0 | D15: ='Reporte de Formatos'!O18 -> 0 | E15: PESOS MEXICANOS | F15: MENSUAL
A16: 13 | B16: PRIMAS VACIONALES | C16: ='Reporte de Formatos'!M19 -> 0 | D16: ='Reporte de Formatos'!O19 -> 0 | E16: PESOS MEXICANOS | F16: MENSUAL

Sheet Tabla_549539
B1: 1 | C1: 6 | D1: 6 | E1: 1 | F1: 1
B2: 70030 | C2: 70031 | D2: 70032 | E2: 70033 | F2: 70034
A3: ID | B3: Denominación de las comisiones | C3: Monto bruto de las comisiones | D3: Monto neto de las comisiones | E3: Tipo de moneda de las comisiones | F3: Periodicidad de las comisiones
A4: 1 | B4: NO SE GENERA | C4: 0 | D4: 0 | E4: PESOS | F4: NO SE GENERA

Sheet Tabla_549530
B1: 1 | C1: 6 | D1: 6 | E1: 1 | F1: 1
B2: 70018 | C2: 70019 | D2: 70020 | E2: 70021 | F2: 70022
A3: ID | B3: Denominación de las dietas | C3: Monto bruto de las dietas | D3: Monto neto de las dietas | E3: Tipo de moneda de las dietas | F3: Periodicidad de las dietas
A4: 1 | B4: NO SE GENERA | C4: 0 | D4: 0 | E4: PESOS | F4: NO SE GENERA

Sheet Tabla_549531
B1: 1 | C1: 6 | D1: 6 | E1: 1 | F1: 1
B2: 70023 | C2: 70024 | D2: 70025 | E2: 70026 | F2: 70027
A3: ID | B3: Denominación de los bonos | C3: Monto bruto de los bonos | D3: Monto neto de los bonos | E3: Tipo de moneda de los bonos | F3: Periodicidad de los bonos
A4: 1 | B4: NO SE GENERA | C4: 0 | D4: 0 | E4: PESOS | F4: NO SE GENERA

Sheet Tabla_549549
B1: 1 | C1: 6 | D1: 6 | E1: 1 | F1: 1
B2: 70040 | C2: 70041 | D2: 70042 | E2: 70043 | F2: 70044
A3: ID | B3: Denominación de los estímulos | C3: Monto bruto de los estímulos | D3: Monto neto de los estímulos | E3: Tipo de moneda de los estímulos | F3: Periodicidad de los estímulos
A4: 1 | B4: NO SE GENERA | C4: 0 | D4: 0 | E4: PESOS | F4: NO SE GENERA

Sheet Tabla_549553
B1: 1 | C1: 6 | D1: 6 | E1: 1 | F1: 1
B2: 70060 | C2: 70061 | D2: 70062 | E2: 70063 | F2: 70064
A3: ID | B3: Denominación de los apoyos económicos | C3: Monto bruto de los apoyos económicos | D3: Monto neto de los apoyos económicos | E3: Tipo de moneda de los apoyos económicos | F3: Periodicidad de los apoyos económicos
A4: 1 | B4: NO SE GENERAN | C4: 0 | D4: 0 | E4: PESOS | F4: NO SE GENERA

Sheet Tabla_549550
B1: 1 | C1: 6 | D1: 6 | E1: 1 | F1: 1
B2: 70045 | C2: 70046 | D2: 70047 | E2: 70048 | F2: 70049
A3: ID | B3: Denominación de las prestaciones económicas | C3: Monto bruto de las prestaciones económicas | D3: Monto neto de las prestaciones económicas | E3: Tipo de moneda de las prestaciones económicas | F3: Periodicidad de las prestaciones económicas
A4: 1 | B4: NO SE GENERAN | C4: 0 | D4: 0 | E4: PESOS | F4: NO SE GENERA

Sheet Tabla_549554
B1: 1 | C1: 1
B2: 70065 | C2: 70066
A3: ID | B3: Descripción de las prestaciones en especie | C3: Periodicidad de las prestaciones en especie
A4: 1 | B4: NO SE GENERA | C4: NO SE GENERA
